BEGIN:VCALENDAR
VERSION:2.0
PRODID:-//wp-events-plugin.com//7.2.3.1//EN
TZID:Europe/Brussels
X-WR-TIMEZONE:Europe/Brussels
BEGIN:VEVENT
UID:61@cecilia-meerbeke.be
DTSTART;TZID=Europe/Brussels;VALUE=DATE:20241012
DTEND;TZID=Europe/Brussels;VALUE=DATE:20241015
DTSTAMP:20240826T183535Z
URL:https://www.cecilia-meerbeke.be/events/jaarlijks-mosselfestijn-2/
SUMMARY:Jaarlijks mosselfestijn
DESCRIPTION:De Koninklijke Harmonie Sinte-Cecilia Meerbeke nodigt u uit op 
 haar:\nJAARLIJKS MOSSELFESTIJN(vervangmenu: kipfilet met diverse sauzen en
  vegetarisch)\nZaal "DE LINDE"(Gemeentehuisstraat 9402 Meerbeke)\nBANCONTA
 CT &amp\; PAYCONIQ BESCHIKBAAR\nSteun onze harmonie!Kom eens lekker eten!
ATTACH;FMTTYPE=image/jpeg:https://www.cecilia-meerbeke.be/wp-content/uploa
 ds/2024/02/mosselfestijn2024.jpg
CATEGORIES:Eetfestijn
LOCATION:Trefcentrum De Linde\, Gemeentehuisstraat 42\, Meerbeke\, België
GEO:50.82515;4.042354499999988
X-APPLE-STRUCTURED-LOCATION;VALUE=URI;X-ADDRESS=Gemeentehuisstraat 42\, Mee
 rbeke\, België;X-APPLE-RADIUS=100;X-TITLE=Trefcentrum De Linde:geo:50.825
 15,4.042354499999988
END:VEVENT
BEGIN:VTIMEZONE
TZID:Europe/Brussels
X-LIC-LOCATION:Europe/Brussels
BEGIN:DAYLIGHT
DTSTART:20240331T030000
TZOFFSETFROM:+0100
TZOFFSETTO:+0200
TZNAME:CEST
END:DAYLIGHT
END:VTIMEZONE
END:VCALENDAR