BEGIN:VCALENDAR
VERSION:2.0
PRODID:-//wp-events-plugin.com//7.2.3.1//EN
TZID:Europe/Brussels
X-WR-TIMEZONE:Europe/Brussels
BEGIN:VEVENT
UID:69@cecilia-meerbeke.be
DTSTART;TZID=Europe/Brussels;VALUE=DATE:20251011
DTEND;TZID=Europe/Brussels;VALUE=DATE:20251014
DTSTAMP:20250907T175930Z
URL:https://www.cecilia-meerbeke.be/events/jaarlijks-mosselfestijn-3/
SUMMARY:Jaarlijks Mosselfestijn
DESCRIPTION:\n\nSteun onze harmonie en kom eens lekker eten!!!
ATTACH;FMTTYPE=image/jpeg:https://www.cecilia-meerbeke.be/wp-content/uploa
 ds/2025/01/mf25-scaled.jpg
CATEGORIES:Eetfestijn
LOCATION:Trefcentrum De Linde\, Gemeentehuisstraat 42\, Meerbeke\, België
GEO:50.82515;4.042354499999988
X-APPLE-STRUCTURED-LOCATION;VALUE=URI;X-ADDRESS=Gemeentehuisstraat 42\, Mee
 rbeke\, België;X-APPLE-RADIUS=100;X-TITLE=Trefcentrum De Linde:geo:50.825
 15,4.042354499999988
END:VEVENT
BEGIN:VTIMEZONE
TZID:Europe/Brussels
X-LIC-LOCATION:Europe/Brussels
BEGIN:DAYLIGHT
DTSTART:20250330T030000
TZOFFSETFROM:+0100
TZOFFSETTO:+0200
TZNAME:CEST
END:DAYLIGHT
END:VTIMEZONE
END:VCALENDAR