BEGIN:VCALENDAR
VERSION:2.0
PRODID:-//wp-events-plugin.com//7.2.3.1//EN
TZID:Europe/Brussels
X-WR-TIMEZONE:Europe/Brussels
BEGIN:VEVENT
UID:51@cecilia-meerbeke.be
DTSTART;TZID=Europe/Brussels;VALUE=DATE:20240127
DTEND;TZID=Europe/Brussels;VALUE=DATE:20240130
DTSTAMP:20240116T194531Z
URL:https://www.cecilia-meerbeke.be/events/jaarlijks-mosselfestijn/
SUMMARY:Jaarlijks Mosselfestijn
DESCRIPTION:Steun onze harmonie en kom eens lekker eten!!
ATTACH;FMTTYPE=image/jpeg:https://www.cecilia-meerbeke.be/wp-content/uploa
 ds/2023/07/STE_CECILIA_AFFICHE_MOSSELFESTIJN_2024-scaled.jpg
LOCATION:Trefcentrum De Linde\, Gemeentehuisstraat 42\, Meerbeke\, België
GEO:50.82515;4.042354499999988
X-APPLE-STRUCTURED-LOCATION;VALUE=URI;X-ADDRESS=Gemeentehuisstraat 42\, Mee
 rbeke\, België;X-APPLE-RADIUS=100;X-TITLE=Trefcentrum De Linde:geo:50.825
 15,4.042354499999988
END:VEVENT
BEGIN:VTIMEZONE
TZID:Europe/Brussels
X-LIC-LOCATION:Europe/Brussels
BEGIN:STANDARD
DTSTART:20231029T020000
TZOFFSETFROM:+0200
TZOFFSETTO:+0100
TZNAME:CET
END:STANDARD
END:VTIMEZONE
END:VCALENDAR