BEGIN:VCALENDAR
VERSION:2.0
PRODID:-//wp-events-plugin.com//7.2.3.1//EN
TZID:Europe/Brussels
X-WR-TIMEZONE:Europe/Brussels
BEGIN:VEVENT
UID:58@cecilia-meerbeke.be
DTSTART;TZID=Europe/Brussels:20240601T183000
DTEND;TZID=Europe/Brussels:20240601T193000
DTSTAMP:20240508T060802Z
URL:https://www.cecilia-meerbeke.be/events/kermis-meerbeke-3/
SUMMARY:Kermis Meerbeke
DESCRIPTION:Een luchtig concert ter gelegenheid van kermis Meerbeke.
LOCATION:Gemeenteplein Meerbeke\, Gemeentehuisstraat\, Meerbeke\, België
X-APPLE-STRUCTURED-LOCATION;VALUE=URI;X-ADDRESS=Gemeentehuisstraat\, Meerbe
 ke\, België;X-APPLE-RADIUS=100;X-TITLE=Gemeenteplein Meerbeke:geo:0,0
END:VEVENT
BEGIN:VTIMEZONE
TZID:Europe/Brussels
X-LIC-LOCATION:Europe/Brussels
BEGIN:DAYLIGHT
DTSTART:20240331T030000
TZOFFSETFROM:+0100
TZOFFSETTO:+0200
TZNAME:CEST
END:DAYLIGHT
END:VTIMEZONE
END:VCALENDAR