BEGIN:VCALENDAR
VERSION:2.0
PRODID:-//wp-events-plugin.com//7.2.3.1//EN
TZID:Europe/Brussels
X-WR-TIMEZONE:Europe/Brussels
BEGIN:VEVENT
UID:43@cecilia-meerbeke.be
DTSTART;TZID=Europe/Brussels:20221223T200000
DTEND;TZID=Europe/Brussels:20221223T220000
DTSTAMP:20221117T170607Z
URL:https://www.cecilia-meerbeke.be/events/kerstconcert-2022/
SUMMARY:Kerstconcert 2022
DESCRIPTION:K.H. Ste-Cecilia Meerbeke &amp\; Jeugdorkest Taccato nodigen u 
 van harte uit op haar Kerstconcert\, ‘Sterrennacht’\, op vrijdag 23 de
 cember 2022\, om 20u in de Sint Pieterskerk in Meerbeke.\nMet ‘Sterrenna
 cht’ gaan we voor grootsheid en verstilling\, gericht naar boven\, naar 
 de sterren. Dit jaar hebben we met Anthony Devriendt een fantastische soli
 st. Anthony is solo hoorn van het Nationaal Orkest van België en docent a
 an LUCA Leuven.\n\nElsa’s Procession to the Cathedral - Richard Wagner\,
  arr. Lucien Caillet\nFlight of the Last Unicorn - Rossano Galante\nCape H
 orn - Otto M. Schwarz\, solist Anthony Devriendt\nAlpina Saga - Thomas Dos
 s\nInterstellar Suite - Hans Zimmer arr. Bart Van Beneden\nHome Alone - Jo
 hn Williams arr. Brian Sadler\n\nNadien is er traditiegetrouw een gezellig
  samenzijn in onvervalste Kerstsfeer.
ATTACH;FMTTYPE=image/jpeg:https://www.cecilia-meerbeke.be/wp-content/uploa
 ds/2022/05/kerstconcert-swterrennacht.jpg
LOCATION:Sint Pieterskerk\, Halsesteenweg 44\, Meerbeke\, België
GEO:50.8248469;4.039636900000005
X-APPLE-STRUCTURED-LOCATION;VALUE=URI;X-ADDRESS=Halsesteenweg 44\, Meerbeke
 \, België;X-APPLE-RADIUS=100;X-TITLE=Sint Pieterskerk:geo:50.8248469,4.03
 9636900000005
END:VEVENT
BEGIN:VTIMEZONE
TZID:Europe/Brussels
X-LIC-LOCATION:Europe/Brussels
BEGIN:STANDARD
DTSTART:20221030T020000
TZOFFSETFROM:+0200
TZOFFSETTO:+0100
TZNAME:CET
END:STANDARD
END:VTIMEZONE
END:VCALENDAR