BEGIN:VCALENDAR
VERSION:2.0
PRODID:-//wp-events-plugin.com//7.2.3.1//EN
TZID:Europe/Brussels
X-WR-TIMEZONE:Europe/Brussels
BEGIN:VEVENT
UID:63@cecilia-meerbeke.be
DTSTART;TZID=Europe/Brussels:20241213T200000
DTEND;TZID=Europe/Brussels:20241213T220000
DTSTAMP:20241105T175407Z
URL:https://www.cecilia-meerbeke.be/events/kerstconcert-4/
SUMMARY:Kerstconcert
DESCRIPTION:K.H. Ste.-Cecilia Meerbeke nodigt u van harte uit op haar Kerst
 concert\, 'Expeditie K.E.R.S.T.'\, op vrijdag 13 december 2024\, om 20u in
  de Sint Pieterskerk van Meerbeke.\nTijdens dit concert gaan we samen met 
 u en onze vertellers op expeditie en beleven we o.l.v. onze nieuwe dirigen
 t Gabriël Hollander een heus muzikaal avontuur.\n\n\nNa het Kerstconcert 
 is er traditiegetrouw een gezellig samenzijn met live Kerstmuziek.\nKaarte
 n zijn te verkrijgen bij al onze muzikanten en het bestuur.Of via mail: k.
 h.ste.cecilia.meerbeke@gmail.com\n\n\n
ATTACH;FMTTYPE=image/jpeg:https://www.cecilia-meerbeke.be/wp-content/uploa
 ds/2024/04/expeditie-kerst.jpg
LOCATION:Sint Pieterskerk\, Halsesteenweg 44\, Meerbeke\, België
GEO:50.8248469;4.039636900000005
X-APPLE-STRUCTURED-LOCATION;VALUE=URI;X-ADDRESS=Halsesteenweg 44\, Meerbeke
 \, België;X-APPLE-RADIUS=100;X-TITLE=Sint Pieterskerk:geo:50.8248469,4.03
 9636900000005
END:VEVENT
BEGIN:VTIMEZONE
TZID:Europe/Brussels
X-LIC-LOCATION:Europe/Brussels
BEGIN:STANDARD
DTSTART:20241027T020000
TZOFFSETFROM:+0200
TZOFFSETTO:+0100
TZNAME:CET
END:STANDARD
END:VTIMEZONE
END:VCALENDAR