BEGIN:VCALENDAR
VERSION:2.0
PRODID:-//wp-events-plugin.com//7.2.3.1//EN
TZID:Europe/Brussels
X-WR-TIMEZONE:Europe/Brussels
BEGIN:VEVENT
UID:74@cecilia-meerbeke.be
DTSTART;TZID=Europe/Brussels:20251214T160000
DTEND;TZID=Europe/Brussels:20251214T180000
DTSTAMP:20251206T081545Z
URL:https://www.cecilia-meerbeke.be/events/kerstconcert-5/
SUMMARY:Kerstconcert 2025
DESCRIPTION:De dagen worden korter en de lichten gaan aan: het is tijd voor
  muziek! K.H. Ste.-Cecilia Meerbeke nodigt u van harte uit op haar jaarlij
 kse Kerstconcert.\nOnder de titel 'In duet met Dieter' hebben wij een spec
 iaal programma samengesteld. Laat u op zondag 14 december 2025 om 16:00 uu
 r meevoeren door warme klanken in de unieke akoestiek van de Sint-Pietersk
 erk te Meerbeke. Het belooft een namiddag te worden vol muzikale verrassin
 gen en gezelligheid.\nHoe komt u aan kaarten? Kaarten zijn verkrijgbaar bi
 j al onze muzikanten en bestuursleden. Wilt u zeker zijn van uw plekje en 
 liever digitaal reserveren? Dat kan eenvoudig via e-mail.\n\n\nReserveer n
 u via: k.h.ste.cecilia.meerbeke@gmail.com\n\nWe kijken ernaar uit u te mog
 en verwelkomen!
ATTACH;FMTTYPE=image/jpeg:https://www.cecilia-meerbeke.be/wp-content/uploa
 ds/2025/06/kerstconcert_2025.jpg
LOCATION:Sint Pieterskerk\, Halsesteenweg 44\, Meerbeke\, België
GEO:50.8248469;4.039636900000005
X-APPLE-STRUCTURED-LOCATION;VALUE=URI;X-ADDRESS=Halsesteenweg 44\, Meerbeke
 \, België;X-APPLE-RADIUS=100;X-TITLE=Sint Pieterskerk:geo:50.8248469,4.03
 9636900000005
END:VEVENT
BEGIN:VTIMEZONE
TZID:Europe/Brussels
X-LIC-LOCATION:Europe/Brussels
BEGIN:STANDARD
DTSTART:20251026T020000
TZOFFSETFROM:+0200
TZOFFSETTO:+0100
TZNAME:CET
END:STANDARD
END:VTIMEZONE
END:VCALENDAR