BEGIN:VCALENDAR
VERSION:2.0
PRODID:-//wp-events-plugin.com//7.2.3.1//EN
TZID:Europe/Brussels
X-WR-TIMEZONE:Europe/Brussels
BEGIN:VEVENT
UID:47@cecilia-meerbeke.be
DTSTART;TZID=Europe/Brussels:20230505T200000
DTEND;TZID=Europe/Brussels:20230505T220000
DTSTAMP:20230412T154756Z
URL:https://www.cecilia-meerbeke.be/events/lenteconcert-musical/
SUMMARY:Voorjaarsconcert 2023: 'Musical'
DESCRIPTION:K.H. Ste-Cecilia Meerbeke &amp\; Jeugdorkest Taccato nodigen u 
 van harte uit op haar voorjaarsconcert\, ‘Musical’\, op vrijdag 5 mei 
 2023\, om 20u in de Sint Pieterskerk in Meerbeke.\nEen verhalend concert m
 et muziek uit de grootste musicals:\nWicked\, West Side Story\, Miss Saigo
 n\, The Lion King\nElisabeth\, The Wizard of Oz\, Chess &amp\; The Phantom
  of the Opera.\nMis dit meeslepend programma niet!
ATTACH;FMTTYPE=image/jpeg:https://www.cecilia-meerbeke.be/wp-content/uploa
 ds/2023/02/musical.jpg
LOCATION:Sint Pieterskerk\, Halsesteenweg 44\, Meerbeke\, België
GEO:50.8248469;4.039636900000005
X-APPLE-STRUCTURED-LOCATION;VALUE=URI;X-ADDRESS=Halsesteenweg 44\, Meerbeke
 \, België;X-APPLE-RADIUS=100;X-TITLE=Sint Pieterskerk:geo:50.8248469,4.03
 9636900000005
END:VEVENT
BEGIN:VTIMEZONE
TZID:Europe/Brussels
X-LIC-LOCATION:Europe/Brussels
BEGIN:DAYLIGHT
DTSTART:20230326T030000
TZOFFSETFROM:+0100
TZOFFSETTO:+0200
TZNAME:CEST
END:DAYLIGHT
END:VTIMEZONE
END:VCALENDAR