BEGIN:VCALENDAR
VERSION:2.0
PRODID:-//wp-events-plugin.com//7.2.3.1//EN
TZID:Europe/Brussels
X-WR-TIMEZONE:Europe/Brussels
BEGIN:VEVENT
UID:29@cecilia-meerbeke.be
DTSTART;TZID=Europe/Brussels;VALUE=DATE:20201010
DTEND;TZID=Europe/Brussels;VALUE=DATE:20201013
DTSTAMP:20200912T162304Z
URL:https://www.cecilia-meerbeke.be/events/take-away-restaurant/
SUMMARY:Take away restaurant
DESCRIPTION:Harmonie Ste-Cecilia zal dit jaar geen mosselfestijn organisere
 n en dit om de jullie wel gekende reden : CORONA.\nOm onze vereniging toch
  draaiende te houden\, hebben we jaarlijks een hoop centjes nodig. Het org
 aniseren van ons mosselfestijn is geen optie\, maar een “take away resta
 urant” is voor ons een gepast alternatief!\nWe bieden geen mosselen aan 
 of varkensgebraad maar wel een keuze uit verschillende vis- en vleesgerech
 ten\, bubbels\, wijnen en dessert.  Alles is mogelijk!\nAlle schotels zij
 n verpakt per persoon\; het enige wat je thuis hoeft te doen\, is opwarmen
  en genieten van een heerlijk maal.\nAfhalen op het Gemeenteplein te Meerb
 eke of levering aan huis (binnen een straal van 7 km) op de door u gekozen
  dag en tijdstip…. Het kan!\nBestellen TEN LAATSTE OP 2 OKTOBER AUB!\nAl
 le details vindt u op dit bestelformulier of via de QR-code \n(PDF)\n\nWil
  u ons op deze manier een financieel duwtje in de rug geven?\nIn ruil daar
 voor beloven wij de gepaste service!\nAlvast bedankt voor uw steun!\nJeugd
 harmonie Taccato en harmonie Ste-Cecilia Meerbeke\n
LOCATION:Gemeenteplein Meerbeke\, Gemeentehuisstraat\, Meerbeke\, België
X-APPLE-STRUCTURED-LOCATION;VALUE=URI;X-ADDRESS=Gemeentehuisstraat\, Meerbe
 ke\, België;X-APPLE-RADIUS=100;X-TITLE=Gemeenteplein Meerbeke:geo:0,0
END:VEVENT
BEGIN:VTIMEZONE
TZID:Europe/Brussels
X-LIC-LOCATION:Europe/Brussels
BEGIN:DAYLIGHT
DTSTART:20200329T030000
TZOFFSETFROM:+0100
TZOFFSETTO:+0200
TZNAME:CEST
END:DAYLIGHT
END:VTIMEZONE
END:VCALENDAR